BEGIN:VCALENDAR
VERSION:2.0
PRODID:-//LSC Attendorn-Finnentrop e.V. - ECPv6.15.20//NONSGML v1.0//EN
CALSCALE:GREGORIAN
METHOD:PUBLISH
X-WR-CALNAME:LSC Attendorn-Finnentrop e.V.
X-ORIGINAL-URL:https://edku.de
X-WR-CALDESC:Veranstaltungen für LSC Attendorn-Finnentrop e.V.
REFRESH-INTERVAL;VALUE=DURATION:PT1H
X-Robots-Tag:noindex
X-PUBLISHED-TTL:PT1H
BEGIN:VTIMEZONE
TZID:Europe/Berlin
BEGIN:DAYLIGHT
TZOFFSETFROM:+0100
TZOFFSETTO:+0200
TZNAME:CEST
DTSTART:20260329T010000
END:DAYLIGHT
BEGIN:STANDARD
TZOFFSETFROM:+0200
TZOFFSETTO:+0100
TZNAME:CET
DTSTART:20261025T010000
END:STANDARD
BEGIN:DAYLIGHT
TZOFFSETFROM:+0100
TZOFFSETTO:+0200
TZNAME:CEST
DTSTART:20270328T010000
END:DAYLIGHT
BEGIN:STANDARD
TZOFFSETFROM:+0200
TZOFFSETTO:+0100
TZNAME:CET
DTSTART:20271031T010000
END:STANDARD
BEGIN:DAYLIGHT
TZOFFSETFROM:+0100
TZOFFSETTO:+0200
TZNAME:CEST
DTSTART:20280326T010000
END:DAYLIGHT
BEGIN:STANDARD
TZOFFSETFROM:+0200
TZOFFSETTO:+0100
TZNAME:CET
DTSTART:20281029T010000
END:STANDARD
END:VTIMEZONE
BEGIN:VEVENT
DTSTART;TZID=Europe/Berlin:20270305T190000
DTEND;TZID=Europe/Berlin:20270305T220000
DTSTAMP:20260422T213916
CREATED:20250226T094539Z
LAST-MODIFIED:20260317T131632Z
UID:4150-1804273200-1804284000@edku.de
SUMMARY:Jahreshauptversammlung 2027 (interne Veranstaltung)
DESCRIPTION:Die ordentliche Mitgliederversammlung findet statt am \nFreitag\, den 05.03.2027\, 19:00 Uhr \nim Gasthof Wilmes (Schriener) in Finnentrop-Heggen\, Finnentroper Strasse 8.
URL:https://edku.de/event/jahreshauptversammlung-2026/
LOCATION:Gasthof Schriener\, Finnentroper Strasse 8\, Heggen\, NRW\, 57413\, Germany
CATEGORIES:Veranstaltungen / Termine
END:VEVENT
BEGIN:VEVENT
DTSTART;TZID=Europe/Berlin:20270306T150000
DTEND;TZID=Europe/Berlin:20270306T163000
DTSTAMP:20260422T213916
CREATED:20250226T094820Z
LAST-MODIFIED:20260323T165411Z
UID:4152-1804345200-1804350600@edku.de
SUMMARY:Frühjahrsbriefing 2027 (interne Veranstaltung)
DESCRIPTION:Frühjahrsbriefing: Samstag\, 06.03.2027\, 15:00 Uhr am Flugplatz
URL:https://edku.de/event/fruehjahrsbelehrung-2026/
LOCATION:Flugplatz LSC Attendorn-Finnentrop e.V.\, Hollenbock 10\, Heggen\, NRW\, 57413\, Germany
CATEGORIES:Veranstaltungen / Termine
END:VEVENT
BEGIN:VEVENT
DTSTART;TZID=Europe/Berlin:20270306T180000
DTEND;TZID=Europe/Berlin:20270306T235900
DTSTAMP:20260422T213916
CREATED:20251229T153256Z
LAST-MODIFIED:20260317T140506Z
UID:5090-1804356000-1804377540@edku.de
SUMMARY:Gulaschessen (Helferfete Drachenfest) 2027 (interne Veranstaltung)
DESCRIPTION:Liebe Freunde des guten Geschmackes\,\nbald ist es wieder soweit. Der Gulaschkanonenabend 4.0 steht an.\nDie Veranstaltung wird wie im letzten Jahr auch wieder am Abend der Frühjahrsbelehrung stattfinden. \nBitte merkt euch schon mal den \nSamstag\, 06.03.2027\, ab ca. 18 Uhr \nvor.
URL:https://edku.de/event/gulaschkanonenabend-2026-interne-veranstaltung/
LOCATION:Flugplatz LSC Attendorn-Finnentrop e.V.\, Hollenbock 10\, Heggen\, NRW\, 57413\, Germany
CATEGORIES:Veranstaltungen / Termine
END:VEVENT
END:VCALENDAR